Workbook
Name ActualExp: Actual!$C$51
Name ActualInc: Actual!$H$34
Name PercentProfit: Actual!$H$37
Name ProjExp: Projected!$D$44
Name ProjInc: Projected!$L$44

Sheet Projected
A1: PROJECTED EXPENDITURE | F1: PROJECTED REVENUE | N1: FUNDING
A2: ITEM | B2: BASE COST | C2: WEEKS | D2: TOTAL
A3: Rights
A4: Cost per performance | B4: 90 | C4: -
A5: No. Performances/week | B5: 5 | C5: 1
D6: =B5*B4*C5 -> 450
A7: Venue
A8: Venue hire | B8: 250
A9: Technician's fee | B9: 150
A10: Deposit | B10: 200
D11: =SUM(B8:B10) -> 600
A12: Production Costs
A13: Rehearsal Room | B13: 0
A14: Construction | B14: 470
A15: Set dressing | B15: 185
A16: Lighting | B16: 80
A17: Sound | B17: 20
A18: Costume | B18: 130
A19: Hand Props | B19: 130
A20: Flame check | B20: 0 | O20: FUNDING BODY | P20: AMOUNT | Q20: % FUND
A21: Make-up | B21: 45
D22: =SUM(B13:B21) -> 1060
A23: Marketing
A24: Programme | B24: 0 | O24: Body 1 | P24: 1000 | Q24: =P24/ProjExp -> 0.3868472
A25: Print | B25: 120 | O25: Body 2 | P25: 850 | Q25: =P25/ProjExp -> 0.32882012
A26: Design fee | B26: 20 | O26: Body 3 | P26: 250 | Q26: =P26/ProjExp -> 0.096711799
A27: Trailer | B27: 40 | O27: Body 4 | P27: 250 | Q27: =P27/ProjExp -> 0.096711799
A28: Event | B28: 60 | O28: Body 5 | P28: 150 | Q28: =P28/ProjExp -> 0.058027079
G29: Other revenue
D30: =SUM(B24:B28) -> 240 | G30: Grant | K30: 0 | O30: [TITLE]
G31: Promotional partnerships | K31: 0
G32: Deposit return | K32: 200
O34: [PRODUCERS]
L36: =SUM(K30:K36) -> 200
G37: SEATS | J37: SALES | O37: [VENUE]
G38: Venue capacity | H38: 120 | J38: ATTENDANCE | K38: TICKET PRICE
G39: No. of performances | H39: 5 | J39: Concession % | K39: 0.7 | L39: 7
G40: No. of comps | J40: Full price % | K40: =1-K39 -> 0.3 | L40: 9 | O40: [DATE]
G41: Max. occupancy | H41: =SUM(H38*H39)-H40 -> 600 | J41: Avg. price | L41: =(K39*L39)+(K40*L40) -> 7.6
A42: Subtotal | D42: =SUM(D6+D11+D22+D30) -> 2350 | G42: Free Tickets | H42: 0 | J42: Gross ticket revenue | L42: =L41*(H41-H42) -> 4560
...

Sheet Actual
A1: ACTUAL EXPENDITURE | E1: ACTUAL REVENUE | J1: FUNDING
A2: Rights | C2: Est. | F2: Wednesday online | G2: 197
A3: Rights | B3: 450 | C3: 450 | F3: Thursday online | G3: 244
F4: Friday online | G4: 346 | K4: FUNDING BODY | L4: BACKING | M4: UP FRONT | N4: RETURN
F5: Saturday mat online | G5: 139 | K5: Body 1 | L5: 1000 | M5: 1 | N5: =(L5*M5) -> 1000
A6: Total Cost | C6: =B3 -> 450 | F6: Saturday online | G6: 338 | K6: Body 2 | L6: 850 | M6: 0 | N6: =(L6*M6) -> 0
A7: Venue | C7: Est. | K7: Body 3 | L7: 83 | M7: 1 | N7: =(L7*M7) -> 83
A8: Theatre hire | B8: 250 | C8: 250 | F8: Gross ticket income | K8: Body 4 | L8: 0 | M8: 1 | N8: =(L8*M8) -> 0
A9: Technician's fee | B9: 150 | C9: 150 | F9: Online sales | G9: =SUM(G2:G6) -> 1264 | K9: Body 5 | L9: 120 | M9: 1 | N9: =(L9*M9) -> 120
A10: Deposit | B10: 200 | C10: 200 | F10: Arts group 1 event | G10: 67.5 | K10: Body 6 | L10: 312.2 | M10: 1 | N10: =(L10*M10) -> 312.2
F11: Arts group 2 event | G11: 77 | K11: Body 7 | M11: 100
C12: =SUM(B8:B12) -> 600 | F12: Friends of cast | G12: 90 | K12: Body 8 | M12: 100
A13: Production Costs | C13: Est. | H13: =SUM(G9:G11) -> 1408.5 | K13: Body 9 | M13: 100
A14: Construction | B14: 604 | C14: 525
A15: Set dressing | B15: 140 | C15: 185
A16: Lighting | B16: 180 | C16: 80
A17: Sound | B17: 0 | C17: -
A18: Costume | B18: 7.5 | C18: 130
A19: Hand props | B19: 65 | C19: 130
A20: Flame check | B20: 0 | C20: - | F20: Other income
A21: Make-up | C21: 30 | F21: Deposit return | G21: 200
C22: =SUM(B14:B21) -> 996.5 | F22: FOH profits | G22: =('FOH Calc'!I15) -> 651
A23: Marketing | C23: Est. | H23: =SUM(G21:G25) -> 851
A24: Posters/Flyers | B24: 100 | C24: 100.01
A25: Design fee | B25: 20 | C25: 20.01
A26: Programmes | B26: 83
C30: =SUM(B24:B29) -> 203
K32: TOTAL FUNDS | L32: =SUM(L5:L13) -> 2365.2
A34: Items deducted in settlement | F34: TOTAL INCOME | H34: =SUM(H2:H25) -> 2259.5 | M34: TOTAL RETURN | N34: =SUM(N5:N26) -> 1515.2
A35: Cost of FOH alcohol | B35: 48
C42: =SUM(B35:B42) -> 48 | K42: BREAK EVEN
K43: Money owed | L43: =N34 -> 1515.2 | N43: Students Only
K44: Av ticket price | L44: =(Projected!L41) -> 7.6 | N44: 6.5
K45: SALES REQUIRED | L45: =(L43/L44) -> 199.36842 | N45: =L43/N44 -> 233.10769
K46: Break-even %age | L46: =(L45/Projected!H41)*100 -> 33.22807 | N46: =(N45/Projected!H41)*100 -> 38.851282
K50: FINAL PROFIT CALCULATION
A51: TOTAL EXPENDITURE | C51: =SUM(C6+C12+C22+C30+C42) -> 2297.5 | K51: Cash remaining | L51: =C54 -> 67.7
K52: Investment owed | L52: =N34 -> 1515.2
A53: REMAINING IN BUDGET | C53: =SUM(ProjExp)-(ActualExp) -> 287.5 | K53: Income | L53: =ActualInc -> 2259.5
A54: Remaining from Funding | C54: =L32-ActualExp -> 67.7
...

Sheet FOH Calc
A1: COIN | B1: AMOUNT
A2: 0.05 | B2: 0.2
A3: 0.1 | B3: 0.3
A4: 0.2 | B4: 3
A5: 0.5 | B5: 16.5 | H5: CAST | I5: =(Actual!G12) -> 90
A6: 1 | B6: 64 | H6: FLOAT | I6: 200
A7: 2 | B7: 2 | H7: WED | I7: 160
A8: 5 | B8: 155 | H8: THURS | I8: 140.5
A9: 10 | B9: 390 | H9: FRI | I9: 96.5
A10: 20 | B10: 260 | H10: MAT | I10: 134
A11: 50 | B11: 50 | H11: SAT | I11: 120
A13: GROSS | B13: =SUM(B2:B11) -> 941 | H13: TOTAL | I13: =SUM(I5:I11) -> 941
A14: MINUS | B14: =I13 -> 941
A15: NET | B15: =(B13)-(B14) -> 0 | H15: PROFIT | I15: =(I13)-(I5+I6) -> 651
